BEGIN:VCALENDAR
VERSION:2.0
PRODID:icalendar-ruby
CALSCALE:GREGORIAN
METHOD:PUBLISH
BEGIN:VTIMEZONE
TZID:America/Indiana/Indianapolis
BEGIN:DAYLIGHT
DTSTART:20250309T030000
TZOFFSETFROM:-0500
TZOFFSETTO:-0400
RRULE:FREQ=YEARLY;BYDAY=2SU;BYMONTH=3
TZNAME:EDT
END:DAYLIGHT
BEGIN:STANDARD
DTSTART:20241103T010000
TZOFFSETFROM:-0400
TZOFFSETTO:-0500
RRULE:FREQ=YEARLY;BYDAY=1SU;BYMONTH=11
TZNAME:EST
END:STANDARD
END:VTIMEZONE
BEGIN:VEVENT
DTSTAMP:20260421T093109Z
UID:3922fb19-5667-4c6e-bbb0-2aba91efcb23
DTSTART;TZID=America/Indiana/Indianapolis:20250222T110000
DTEND;TZID=America/Indiana/Indianapolis:20250223T190000
DESCRIPTION: 56th Annual Rod and Custom Car Show. Join in a for an amazing 
 rod and custom car show that's been going since 1970! Entry forms for both 
 the Car Show and Model Car Contest are on the website. Official Website → R
 od and Custom Car Show Official FB → Rod and Custom Car Show FB  
LOCATION:766 N Maple St\, Monticello\, IA 52310\, USA
SUMMARY:Rod & Custom Car Show
URL:http://www.bikerswitchboard.com/events/rod-and-custom-car-show
END:VEVENT
END:VCALENDAR
