BEGIN:VCALENDAR
VERSION:2.0
PRODID:icalendar-ruby
CALSCALE:GREGORIAN
METHOD:PUBLISH
BEGIN:VTIMEZONE
TZID:America/Indiana/Indianapolis
BEGIN:DAYLIGHT
DTSTART:20190310T030000
TZOFFSETFROM:-0500
TZOFFSETTO:-0400
RRULE:FREQ=YEARLY;BYDAY=2SU;BYMONTH=3
TZNAME:EDT
END:DAYLIGHT
BEGIN:STANDARD
DTSTART:20191103T010000
TZOFFSETFROM:-0400
TZOFFSETTO:-0500
RRULE:FREQ=YEARLY;BYDAY=1SU;BYMONTH=11
TZNAME:EST
END:STANDARD
END:VTIMEZONE
BEGIN:VEVENT
DTSTAMP:20260422T232027Z
UID:3eb639bf-e55b-4101-89fb-9b0455c875cb
DTSTART;TZID=America/Indiana/Indianapolis:20190914T160000
DTEND;TZID=America/Indiana/Indianapolis:20190914T210000
DESCRIPTION: &#13\; Mainstreet Billiards is hosting a small indoor show of 
 pre 1985 motorcycles in Zephyrhills\, FL. The show will be during the 15th 
 annual &quot\;Music and Motorcycles&quot\; event which is held downtown Sep
 tember 14th from 4pm-9pm and is about 30 minutes north of Tampa off 301. Co
 me on down and enjoy the food\, motorcycles\, music and support local small
  businesses.See more at the official Facebo...
LOCATION:38529 5th Ave\, Zephyrhills\, FL 33542\, USA
SUMMARY:Indoor Vintage Bike Show
URL:http://www.bikerswitchboard.com/events/indoor-vintage-bike-show
END:VEVENT
END:VCALENDAR
